BEGIN:VCALENDAR
VERSION:2.0
PRODID:-//Plone.org//NONSGML plone.app.event//EN
X-WR-TIMEZONE:US/Central
BEGIN:VEVENT
SUMMARY:SRP "Crazy\, Bubble Science Show"
DTSTART;TZID=US/Central:20220726T140000
DTEND;TZID=US/Central:20220726T143000
DTSTAMP:20260422T071747Z
UID:d9f42c200184418cb4e4bd35d95d7def@saas_stack_varnish:6080
ATTENDEE;CN="Ages 1-12";ROLE=REQ-PARTICIPANT:Ages 1-12
CONTACT:Lin Rehm\, 409-986-7814\, hitchpl@comcast.net
CREATED:20220525T214412Z
LAST-MODIFIED:20220623T150209Z
LOCATION:Hitchcock public library
URL:https://hitchcock.ploud.net/srp-crazy-bubble-science-show
END:VEVENT
BEGIN:VTIMEZONE
TZID:US/Central
X-LIC-LOCATION:US/Central
BEGIN:DAYLIGHT
DTSTART:20220313T030000
TZNAME:CDT
TZOFFSETFROM:-0600
TZOFFSETTO:-0500
END:DAYLIGHT
END:VTIMEZONE
END:VCALENDAR
