BEGIN:VCALENDAR
VERSION:2.0
PRODID:-//Plone.org//NONSGML plone.app.event//EN
X-WR-TIMEZONE:US/Central
BEGIN:VEVENT
SUMMARY:SRP Craft "Bottle Cap Air Balloon" and "Bottle Cap Flowers"
DTSTART;TZID=US/Central:20220728T140000
DTEND;TZID=US/Central:20220728T143000
DTSTAMP:20260422T071957Z
UID:979981742e71429c8828f2ac21e515d5@saas_stack_varnish:6080
ATTENDEE;CN="Ages 1-12";ROLE=REQ-PARTICIPANT:Ages 1-12
CONTACT:Lin Rehm\, 409-986-7814\, hitchpl@comcast.net
CREATED:20220525T215418Z
LAST-MODIFIED:20220623T150238Z
LOCATION:Hitchcock public library
URL:https://hitchcock.ploud.net/srp-craft-bottle-cap-air-balloon-and-bottl
 e-cap-flowers
END:VEVENT
BEGIN:VTIMEZONE
TZID:US/Central
X-LIC-LOCATION:US/Central
BEGIN:DAYLIGHT
DTSTART:20220313T030000
TZNAME:CDT
TZOFFSETFROM:-0600
TZOFFSETTO:-0500
END:DAYLIGHT
END:VTIMEZONE
END:VCALENDAR
