BEGIN:VCALENDAR
VERSION:2.0
PRODID:-//Plone.org//NONSGML plone.app.event//EN
X-WR-TIMEZONE:US/Central
BEGIN:VEVENT
SUMMARY:SRP - Chalk the Block with Kindness
DTSTART;TZID=US/Central:20230628T130000
DTEND;TZID=US/Central:20230628T140000
DTSTAMP:20260424T124547Z
UID:a1299ea2b0cc45ae83f503d842f9e48a@saas_stack_varnish:6080
CONTACT:409-986-7814\, hitchcockpubliclibrary@gmail.com
CREATED:20230511T182408Z
LAST-MODIFIED:20230511T182415Z
LOCATION:Hitchcock Public Library
URL:https://hitchcock.ploud.net/srp-chalk-the-block-with-kindness
END:VEVENT
BEGIN:VTIMEZONE
TZID:US/Central
X-LIC-LOCATION:US/Central
BEGIN:DAYLIGHT
DTSTART:20230312T030000
TZNAME:CDT
TZOFFSETFROM:-0600
TZOFFSETTO:-0500
END:DAYLIGHT
END:VTIMEZONE
END:VCALENDAR
