BEGIN:VCALENDAR
VERSION:2.0
PRODID:-//Plone.org//NONSGML plone.app.event//EN
X-WR-TIMEZONE:US/Central
BEGIN:VEVENT
SUMMARY:SRP - Board Game Day
DTSTART;TZID=US/Central:20230714T130000
DTEND;TZID=US/Central:20230714T140000
DTSTAMP:20260422T070002Z
UID:84fac6ccb1c5473b9ddbb4bb8d054d22@saas_stack_varnish:6080
CONTACT:409-986-7814\, hitchcockpubliclibrary@gmail.com
CREATED:20230511T195158Z
LAST-MODIFIED:20230511T195209Z
LOCATION:Hitchcock Public Library
URL:https://hitchcock.ploud.net/srp-board-game-day
END:VEVENT
BEGIN:VTIMEZONE
TZID:US/Central
X-LIC-LOCATION:US/Central
BEGIN:DAYLIGHT
DTSTART:20230312T030000
TZNAME:CDT
TZOFFSETFROM:-0600
TZOFFSETTO:-0500
END:DAYLIGHT
END:VTIMEZONE
END:VCALENDAR
