BEGIN:VCALENDAR
VERSION:2.0
PRODID:-//Plone.org//NONSGML plone.app.event//EN
X-WR-TIMEZONE:US/Central
BEGIN:VEVENT
SUMMARY:SRP "Art Craft"
DTSTART;TZID=US/Central:20220629T140000
DTEND;TZID=US/Central:20220629T143000
DTSTAMP:20260422T065957Z
UID:e08b7f4deb1140f282b4f757607a0b17@saas_stack_varnish:6080
ATTENDEE;CN="Ages 1-12";ROLE=REQ-PARTICIPANT:Ages 1-12
CONTACT:Lin Rehm\, 409-986-7814\, hitchpl@comcast.net
CREATED:20220524T175645Z
LAST-MODIFIED:20220623T145832Z
LOCATION:Hitchcock public library
URL:https://hitchcock.ploud.net/srp-art-craft
END:VEVENT
BEGIN:VTIMEZONE
TZID:US/Central
X-LIC-LOCATION:US/Central
BEGIN:DAYLIGHT
DTSTART:20220313T030000
TZNAME:CDT
TZOFFSETFROM:-0600
TZOFFSETTO:-0500
END:DAYLIGHT
END:VTIMEZONE
END:VCALENDAR
