BEGIN:VCALENDAR
VERSION:2.0
PRODID:-//Plone.org//NONSGML plone.app.event//EN
X-WR-TIMEZONE:US/Central
BEGIN:VEVENT
SUMMARY:SRP - 4th of July Craft
DTSTART;TZID=US/Central:20230629T130000
DTEND;TZID=US/Central:20230629T140000
DTSTAMP:20260422T071916Z
UID:2ad5dcf8d0054a9180c59b4b07635023@saas_stack_varnish:6080
CONTACT:409-986-7814\, hitchcockpubliclibrary@gmail.com
CREATED:20230511T183044Z
LAST-MODIFIED:20230511T183050Z
LOCATION:Hitchcock Public Library
URL:https://hitchcock.ploud.net/srp-4th-of-july-craft
END:VEVENT
BEGIN:VTIMEZONE
TZID:US/Central
X-LIC-LOCATION:US/Central
BEGIN:DAYLIGHT
DTSTART:20230312T030000
TZNAME:CDT
TZOFFSETFROM:-0600
TZOFFSETTO:-0500
END:DAYLIGHT
END:VTIMEZONE
END:VCALENDAR
