BEGIN:VCALENDAR
VERSION:2.0
PRODID:-//Plone.org//NONSGML plone.app.event//EN
X-WR-TIMEZONE:US/Central
BEGIN:VEVENT
SUMMARY:Sewing Bee Club
DTSTART;TZID=US/Central:20240404T100000
DTEND;TZID=US/Central:20240404T120000
DTSTAMP:20260422T071813Z
UID:8f4eb685dfca4c77a66de9e0d429fc7b@saas_stack_varnish:6080
CONTACT:409-986-7814\, hitchcockpubliclibrary@gmail.com
CREATED:20240402T160910Z
LAST-MODIFIED:20240402T160938Z
LOCATION:Hitchcock Public Library
URL:https://hitchcock.ploud.net/sewing-bee-club-9
END:VEVENT
BEGIN:VTIMEZONE
TZID:US/Central
X-LIC-LOCATION:US/Central
BEGIN:DAYLIGHT
DTSTART:20240310T030000
TZNAME:CDT
TZOFFSETFROM:-0600
TZOFFSETTO:-0500
END:DAYLIGHT
END:VTIMEZONE
END:VCALENDAR
