BEGIN:VCALENDAR
VERSION:2.0
PRODID:-//Plone.org//NONSGML plone.app.event//EN
X-WR-TIMEZONE:US/Central
BEGIN:VEVENT
SUMMARY:Sewing Bee Club
DTSTART;TZID=US/Central:20240222T100000
DTEND;TZID=US/Central:20240222T120000
DTSTAMP:20260422T071808Z
UID:4a3f03522a6e4d3eabbf3ec590ad61e2@saas_stack_varnish:6080
CONTACT:409-986-7814\, hitchcockpubliclibrary@gmail.com
CREATED:20240123T201419Z
LAST-MODIFIED:20240123T201424Z
LOCATION:Hitchcock Public Library
URL:https://hitchcock.ploud.net/sewing-bee-club-5
END:VEVENT
BEGIN:VTIMEZONE
TZID:US/Central
X-LIC-LOCATION:US/Central
BEGIN:STANDARD
DTSTART:20231105T010000
TZNAME:CST
TZOFFSETFROM:-0500
TZOFFSETTO:-0600
END:STANDARD
END:VTIMEZONE
END:VCALENDAR
