BEGIN:VCALENDAR
VERSION:2.0
PRODID:-//Plone.org//NONSGML plone.app.event//EN
X-WR-TIMEZONE:US/Central
BEGIN:VEVENT
SUMMARY:Sewing Bee Club
DTSTART;TZID=US/Central:20240118T100000
DTEND;TZID=US/Central:20240118T120000
DTSTAMP:20260422T071747Z
UID:bed538fbcaa04673bb364598cda25b16@saas_stack_varnish:6080
CONTACT:409-986-7814\, hitchcockpubliclibrary@gmail.com
CREATED:20240105T173855Z
LAST-MODIFIED:20240105T181554Z
LOCATION:Hitchcock Public Library
URL:https://hitchcock.ploud.net/sewing-bee-club-2
END:VEVENT
BEGIN:VTIMEZONE
TZID:US/Central
X-LIC-LOCATION:US/Central
BEGIN:STANDARD
DTSTART:20231105T010000
TZNAME:CST
TZOFFSETFROM:-0500
TZOFFSETTO:-0600
END:STANDARD
END:VTIMEZONE
END:VCALENDAR
