BEGIN:VCALENDAR
VERSION:2.0
PRODID:-//Plone.org//NONSGML plone.app.event//EN
X-WR-TIMEZONE:US/Central
BEGIN:VEVENT
SUMMARY:Sewing Bee Club
DTSTART;TZID=US/Central:20240418T100000
DTEND;TZID=US/Central:20240418T120000
DTSTAMP:20260422T090132Z
UID:ad389d0432ca4e0696588c35722fabc5@saas_stack_varnish:6080
CONTACT:409-986-7814\, hitchcockpubliclibrary@gmail.com
CREATED:20240402T161228Z
LAST-MODIFIED:20240402T161234Z
LOCATION:Hitchcock Public Library
URL:https://hitchcock.ploud.net/sewing-bee-club-11
END:VEVENT
BEGIN:VTIMEZONE
TZID:US/Central
X-LIC-LOCATION:US/Central
BEGIN:DAYLIGHT
DTSTART:20240310T030000
TZNAME:CDT
TZOFFSETFROM:-0600
TZOFFSETTO:-0500
END:DAYLIGHT
END:VTIMEZONE
END:VCALENDAR
