BEGIN:VCALENDAR
VERSION:2.0
PRODID:-//Plone.org//NONSGML plone.app.event//EN
X-WR-TIMEZONE:US/Central
BEGIN:VEVENT
SUMMARY:Sewing Bee Club
DTSTART;TZID=US/Central:20240125T100000
DTEND;TZID=US/Central:20240125T120000
DTSTAMP:20260422T082828Z
UID:e2097e98051c441ea90c4bb922326de8@saas_stack_varnish:6080
CONTACT:409-986-7814\, hitchcockpubliclibrary@gmail.com
CREATED:20240103T194709Z
LAST-MODIFIED:20240105T181614Z
LOCATION:Hitchcock Public Library
URL:https://hitchcock.ploud.net/sewing-bee-club-1
END:VEVENT
BEGIN:VTIMEZONE
TZID:US/Central
X-LIC-LOCATION:US/Central
BEGIN:STANDARD
DTSTART:20231105T010000
TZNAME:CST
TZOFFSETFROM:-0500
TZOFFSETTO:-0600
END:STANDARD
END:VTIMEZONE
END:VCALENDAR
