BEGIN:VCALENDAR
VERSION:2.0
PRODID:-//Plone.org//NONSGML plone.app.event//EN
X-WR-TIMEZONE:US/Central
BEGIN:VEVENT
SUMMARY:School Age STEM
DTSTART;TZID=US/Central:20221206T160000
DTEND;TZID=US/Central:20221206T170000
DTSTAMP:20260422T053111Z
UID:8822406de4624d129ab7f697fe8211a2@saas_stack_varnish:6080
CONTACT:409-986-7814\, hitchcockpubliclibrary@gmail.com
CREATED:20221129T172928Z
LAST-MODIFIED:20221129T175700Z
LOCATION:Hitchcock Public Library
URL:https://hitchcock.ploud.net/school-age-stem
END:VEVENT
BEGIN:VTIMEZONE
TZID:US/Central
X-LIC-LOCATION:US/Central
BEGIN:STANDARD
DTSTART:20221106T010000
TZNAME:CST
TZOFFSETFROM:-0500
TZOFFSETTO:-0600
END:STANDARD
END:VTIMEZONE
END:VCALENDAR
