BEGIN:VCALENDAR
VERSION:2.0
PRODID:-//Plone.org//NONSGML plone.app.event//EN
X-WR-TIMEZONE:US/Central
BEGIN:VEVENT
SUMMARY:School Age STEM
DTSTART;TZID=US/Central:20230110T160000
DTEND;TZID=US/Central:20230110T170000
DTSTAMP:20260422T053127Z
UID:a5373c6e7dfe408db8af22d9982ad595@saas_stack_varnish:6080
ATTENDEE;CN="Ages 6-10";ROLE=REQ-PARTICIPANT:Ages 6-10
CONTACT:409-986-7814\, hitchcockpubliclibrary@gmail.com
CREATED:20230105T161412Z
LAST-MODIFIED:20230105T161422Z
LOCATION:Hitchcock Public Library
URL:https://hitchcock.ploud.net/school-age-stem-1
END:VEVENT
BEGIN:VTIMEZONE
TZID:US/Central
X-LIC-LOCATION:US/Central
BEGIN:STANDARD
DTSTART:20221106T010000
TZNAME:CST
TZOFFSETFROM:-0500
TZOFFSETTO:-0600
END:STANDARD
END:VTIMEZONE
END:VCALENDAR
