BEGIN:VCALENDAR
VERSION:2.0
PRODID:-//Plone.org//NONSGML plone.app.event//EN
X-WR-TIMEZONE:US/Central
BEGIN:VEVENT
SUMMARY:Rhythm and Movement with Music
DTSTART;TZID=US/Central:20180717T140000
DTEND;TZID=US/Central:20180717T150000
DTSTAMP:20260422T084907Z
UID:4925d28b67b243ba85f43a834688ec78@saas_stack_varnish:6080
ATTENDEE;CN="All Ages";ROLE=REQ-PARTICIPANT:All Ages
CONTACT:Joyce L. Kleimann\, 409-986-7814
CREATED:20180425T203500Z
DESCRIPTION:Learn to dance with music\, ribbons and scarves
LAST-MODIFIED:20180425T203506Z
LOCATION:8005 Barry Ave.
URL:https://hitchcock.ploud.net/rhythm-and-movement-with-music
END:VEVENT
BEGIN:VTIMEZONE
TZID:US/Central
X-LIC-LOCATION:US/Central
BEGIN:DAYLIGHT
DTSTART:20180311T030000
TZNAME:CDT
TZOFFSETFROM:-0600
TZOFFSETTO:-0500
END:DAYLIGHT
END:VTIMEZONE
END:VCALENDAR
