BEGIN:VCALENDAR
VERSION:2.0
PRODID:-//Plone.org//NONSGML plone.app.event//EN
X-WR-TIMEZONE:US/Central
BEGIN:VEVENT
SUMMARY:Pumpkin Patch Story Time @ Hitchcock High School Pumpkin Patch
DTSTART;TZID=US/Central:20231017T170000
DTEND;TZID=US/Central:20231017T173000
DTSTAMP:20260422T090404Z
UID:4e4152dbd1614dd9942a63463335e3a6@saas_stack_varnish:6080
CONTACT:Brittany Tatyrek\, 409-986-7814\, hitchcockpubliclibrary@gmail.com
CREATED:20230929T153417Z
LAST-MODIFIED:20230929T153433Z
LOCATION:Hitchcock High School Pumpkin Patch
URL:https://hitchcock.ploud.net/pumpkin-patch-story-time-hitchcock-high-sc
 hool-pumpkin-patch-1
END:VEVENT
BEGIN:VTIMEZONE
TZID:US/Central
X-LIC-LOCATION:US/Central
BEGIN:DAYLIGHT
DTSTART:20230312T030000
TZNAME:CDT
TZOFFSETFROM:-0600
TZOFFSETTO:-0500
END:DAYLIGHT
END:VTIMEZONE
END:VCALENDAR
