BEGIN:VCALENDAR
VERSION:2.0
PRODID:-//Plone.org//NONSGML plone.app.event//EN
X-WR-TIMEZONE:US/Central
BEGIN:VEVENT
SUMMARY:"Pete the Cat" Storytime
DTSTART;TZID=US/Central:20191114T110000
DTEND;TZID=US/Central:20191114T110000
DTSTAMP:20260424T083623Z
UID:91c8b5b62bda4cce9afbaed47ea54371@saas_stack_varnish:6080
ATTENDEE;CN="ages 1 - 5";ROLE=REQ-PARTICIPANT:ages 1 - 5
CONTACT:Joyce L. Kleimann\, 4099867814\, Hitchpl@comcast.net
CREATED:20191030T202816Z
LAST-MODIFIED:20191030T202820Z
LOCATION:Hitchcock Library
URL:https://hitchcock.ploud.net/pete-the-cat-storytime
END:VEVENT
BEGIN:VTIMEZONE
TZID:US/Central
X-LIC-LOCATION:US/Central
BEGIN:STANDARD
DTSTART:20191103T010000
TZNAME:CST
TZOFFSETFROM:-0500
TZOFFSETTO:-0600
END:STANDARD
END:VTIMEZONE
END:VCALENDAR
