BEGIN:VCALENDAR
VERSION:2.0
PRODID:-//Plone.org//NONSGML plone.app.event//EN
X-WR-TIMEZONE:US/Central
BEGIN:VEVENT
SUMMARY:"On the Same Page" Book Club
DTSTART;TZID=US/Central:20210427T180000
DTEND;TZID=US/Central:20210427T190000
DTSTAMP:20260424T102143Z
UID:ca5dff22b8864b8daf6448b12e9a57c5@saas_stack_varnish:6080
ATTENDEE;CN=adults;ROLE=REQ-PARTICIPANT:adults
CONTACT:Joyce L. Kleimann\, 14099867814\, hitchpl@comcast.net
CREATED:20210413T214202Z
LAST-MODIFIED:20210421T162431Z
LOCATION:Hitchcock Public Library
URL:https://hitchcock.ploud.net/on-the-same-page-book-club
END:VEVENT
BEGIN:VTIMEZONE
TZID:US/Central
X-LIC-LOCATION:US/Central
BEGIN:DAYLIGHT
DTSTART:20210314T030000
TZNAME:CDT
TZOFFSETFROM:-0600
TZOFFSETTO:-0500
END:DAYLIGHT
END:VTIMEZONE
END:VCALENDAR
