BEGIN:VCALENDAR
VERSION:2.0
PRODID:-//Plone.org//NONSGML plone.app.event//EN
X-WR-TIMEZONE:US/Central
BEGIN:VEVENT
SUMMARY:Oceans of Possibilities Summer Program
DTSTART;TZID=US/Central:20220618T110000
DTEND;TZID=US/Central:20220618T150000
DTSTAMP:20260424T102103Z
UID:46d2ab08014c42448297e046a8ede35a@saas_stack_varnish:6080
CONTACT:Lin Rehm\, 14099867814\, hitchpl@comcast.net
CREATED:20220520T211938Z
LAST-MODIFIED:20220520T211942Z
LOCATION:Hitchcock Public Library
URL:https://hitchcock.ploud.net/oceans-of-possibilities-summer-program
END:VEVENT
BEGIN:VTIMEZONE
TZID:US/Central
X-LIC-LOCATION:US/Central
BEGIN:DAYLIGHT
DTSTART:20220313T030000
TZNAME:CDT
TZOFFSETFROM:-0600
TZOFFSETTO:-0500
END:DAYLIGHT
END:VTIMEZONE
END:VCALENDAR
