BEGIN:VCALENDAR
VERSION:2.0
PRODID:-//Plone.org//NONSGML plone.app.event//EN
X-WR-TIMEZONE:US/Central
BEGIN:VEVENT
SUMMARY:School Age STEM
DTSTART;TZID=US/Central:20230314T160000
DTEND;TZID=US/Central:20230314T170000
DTSTAMP:20260422T020616Z
UID:85b3055c2fb14533a5653c05353910cf@saas_stack_varnish:6080
CONTACT:409-986-7814\, hitchcockpubliclibrary@gmail.com
CREATED:20230307T183442Z
LAST-MODIFIED:20230307T183451Z
LOCATION:Hitchcock Public Library
URL:https://hitchcock.ploud.net/news-events/school-age-stem-3
END:VEVENT
BEGIN:VTIMEZONE
TZID:US/Central
X-LIC-LOCATION:US/Central
BEGIN:DAYLIGHT
DTSTART:20230312T030000
TZNAME:CDT
TZOFFSETFROM:-0600
TZOFFSETTO:-0500
END:DAYLIGHT
END:VTIMEZONE
END:VCALENDAR
