BEGIN:VCALENDAR
VERSION:2.0
PRODID:-//Plone.org//NONSGML plone.app.event//EN
X-WR-TIMEZONE:US/Central
BEGIN:VEVENT
SUMMARY:School Age STEM
DTSTART;TZID=US/Central:20221108T160000
DTEND;TZID=US/Central:20221108T170000
DTSTAMP:20260422T020825Z
UID:55a57bbff3964b12872f9669007a01d2@saas_stack_varnish:6080
ATTENDEE;CN="Great for ages 6-10";ROLE=REQ-PARTICIPANT:Great for ages 6-10
CONTACT:409-986-7814\, hitchcockpubliclibrary@gmail.com
CREATED:20221029T192724Z
LAST-MODIFIED:20221029T192733Z
LOCATION:Hitchcock Public Library
URL:https://hitchcock.ploud.net/news-events/school-age-stem-2
END:VEVENT
BEGIN:VTIMEZONE
TZID:US/Central
X-LIC-LOCATION:US/Central
BEGIN:STANDARD
DTSTART:20221106T010000
TZNAME:CST
TZOFFSETFROM:-0500
TZOFFSETTO:-0600
END:STANDARD
END:VTIMEZONE
END:VCALENDAR
