BEGIN:VCALENDAR
VERSION:2.0
PRODID:-//Plone.org//NONSGML plone.app.event//EN
X-WR-TIMEZONE:US/Central
BEGIN:VEVENT
SUMMARY:TRUNK OR TREAT 2024
DTSTART;TZID=US/Central:20241019T150000
DTEND;TZID=US/Central:20241019T170000
DTSTAMP:20260422T053708Z
UID:0c247e18f48e47f29115d3ae2227afc6@saas_stack_varnish:6080
CREATED:20240824T180705Z
DESCRIPTION:Join us for our annual Trunk or Treat!
LAST-MODIFIED:20240824T180715Z
LOCATION:Hitchcock Public Library
URL:https://hitchcock.ploud.net/news-events/lib-news/trunk-or-treat-2024
END:VEVENT
BEGIN:VTIMEZONE
TZID:US/Central
X-LIC-LOCATION:US/Central
BEGIN:DAYLIGHT
DTSTART:20240310T030000
TZNAME:CDT
TZOFFSETFROM:-0600
TZOFFSETTO:-0500
END:DAYLIGHT
END:VTIMEZONE
END:VCALENDAR
