BEGIN:VCALENDAR
VERSION:2.0
PRODID:-//Plone.org//NONSGML plone.app.event//EN
X-WR-TIMEZONE:US/Central
BEGIN:VEVENT
SUMMARY:STEAM Day
DTSTART;TZID=US/Central:20250212T160000
DTEND;TZID=US/Central:20250212T170000
DTSTAMP:20260422T090404Z
UID:7120e357573847f8a1106e894ba87550@saas_stack_varnish:6080
CREATED:20250130T184657Z
DESCRIPTION:Join us for STEAM Day. Great for school age kids.
LAST-MODIFIED:20250130T184706Z
LOCATION:Hitchcock Library
URL:https://hitchcock.ploud.net/news-events/lib-news/steam-day
END:VEVENT
BEGIN:VTIMEZONE
TZID:US/Central
X-LIC-LOCATION:US/Central
BEGIN:STANDARD
DTSTART:20241103T010000
TZNAME:CST
TZOFFSETFROM:-0500
TZOFFSETTO:-0600
END:STANDARD
END:VTIMEZONE
END:VCALENDAR
