BEGIN:VCALENDAR
VERSION:2.0
PRODID:-//Plone.org//NONSGML plone.app.event//EN
X-WR-TIMEZONE:US/Central
BEGIN:VEVENT
SUMMARY:FB: Storytime - Pete the Cat
DTSTART;TZID=US/Central:20210212T130000
DTEND;TZID=US/Central:20210212T133000
DTSTAMP:20260422T053703Z
UID:d7d7745d14334218b6e42c8342a5a949@saas_stack_varnish:6080
ATTENDEE;CN="ages 1 to 10";ROLE=REQ-PARTICIPANT:ages 1 to 10
CONTACT:Joyce L. Kleimann\, 14099867814\, hitchpl@comcast.net
CREATED:20210123T202628Z
LAST-MODIFIED:20210123T202636Z
LOCATION:Facebook: Hitchcock Public Library
URL:https://hitchcock.ploud.net/news-events/lib-news/fb-storytime-pete-the
 -cat
END:VEVENT
BEGIN:VTIMEZONE
TZID:US/Central
X-LIC-LOCATION:US/Central
BEGIN:STANDARD
DTSTART:20201101T010000
TZNAME:CST
TZOFFSETFROM:-0500
TZOFFSETTO:-0600
END:STANDARD
END:VTIMEZONE
END:VCALENDAR
