BEGIN:VCALENDAR
VERSION:2.0
PRODID:-//Plone.org//NONSGML plone.app.event//EN
X-WR-TIMEZONE:US/Central
BEGIN:VEVENT
SUMMARY:FB Polar Bear Storytime
DTSTART;TZID=US/Central:20210115T130000
DTEND;TZID=US/Central:20210115T133000
DTSTAMP:20260422T053655Z
UID:4579f424d8b1453fb7bdd14c8a4db38b@saas_stack_varnish:6080
CONTACT:joyce L. Kleimann\, 409-986-7814
CREATED:20201223T200323Z
LAST-MODIFIED:20201223T200402Z
LOCATION:Hitchchock Facebook page
URL:https://hitchcock.ploud.net/news-events/lib-news/fb-snowman-storytime-
 1
END:VEVENT
BEGIN:VTIMEZONE
TZID:US/Central
X-LIC-LOCATION:US/Central
BEGIN:STANDARD
DTSTART:20201101T010000
TZNAME:CST
TZOFFSETFROM:-0500
TZOFFSETTO:-0600
END:STANDARD
END:VTIMEZONE
END:VCALENDAR
