BEGIN:VCALENDAR
VERSION:2.0
PRODID:-//Plone.org//NONSGML plone.app.event//EN
X-WR-TIMEZONE:US/Central
BEGIN:VEVENT
SUMMARY:FB Newspaper Polar Bear Craft
DTSTART;TZID=US/Central:20210115T133000
DTEND;TZID=US/Central:20210115T140000
DTSTAMP:20260422T090708Z
UID:c2072bf290984422be351c32158967d1@saas_stack_varnish:6080
ATTENDEE;CN="ages 4 to 8";ROLE=REQ-PARTICIPANT:ages 4 to 8
CONTACT:Joyce L. Kleimann\, 14099867814\, hitchpl@comcast.net
CREATED:20210109T154753Z
LAST-MODIFIED:20210109T154800Z
LOCATION:Facebook: Hitchcock Public Library
URL:https://hitchcock.ploud.net/news-events/lib-news/fb-newspaper-polar-be
 ar-craft
END:VEVENT
BEGIN:VTIMEZONE
TZID:US/Central
X-LIC-LOCATION:US/Central
BEGIN:STANDARD
DTSTART:20201101T010000
TZNAME:CST
TZOFFSETFROM:-0500
TZOFFSETTO:-0600
END:STANDARD
END:VTIMEZONE
END:VCALENDAR
