BEGIN:VCALENDAR
VERSION:2.0
PRODID:-//Plone.org//NONSGML plone.app.event//EN
X-WR-TIMEZONE:US/Central
BEGIN:VEVENT
SUMMARY:FB Lighthouse Craft
DTSTART;TZID=US/Central:20210116T130000
DTEND;TZID=US/Central:20210116T133000
DTSTAMP:20260422T072003Z
UID:d1918ed25cf0488c827e8fa06d9ea4fe@saas_stack_varnish:6080
ATTENDEE;CN="Adults and any children that are able to";ROLE=REQ-PARTICIPAN
 T:Adults and any children that are able to
ATTENDEE;CN="do the craft";ROLE=REQ-PARTICIPANT:do the craft
CONTACT:joyce L. Kleimann\, 409-986-7814
CREATED:20201223T201524Z
LAST-MODIFIED:20201223T201532Z
LOCATION:Hitchchock Facebook page
URL:https://hitchcock.ploud.net/news-events/lib-news/fb-lighthouse-craft
END:VEVENT
BEGIN:VTIMEZONE
TZID:US/Central
X-LIC-LOCATION:US/Central
BEGIN:STANDARD
DTSTART:20201101T010000
TZNAME:CST
TZOFFSETFROM:-0500
TZOFFSETTO:-0600
END:STANDARD
END:VTIMEZONE
END:VCALENDAR
