BEGIN:VCALENDAR
VERSION:2.0
PRODID:-//Plone.org//NONSGML plone.app.event//EN
X-WR-TIMEZONE:US/Central
BEGIN:VEVENT
SUMMARY:FB Cotton Ball "Snowy Owl" Craft
DTSTART;TZID=US/Central:20210122T133000
DTEND;TZID=US/Central:20210122T140000
DTSTAMP:20260422T053658Z
UID:dbcf27bc10624afe9ff2c465d0dc2a76@saas_stack_varnish:6080
ATTENDEE;CN="age 4 to 10";ROLE=REQ-PARTICIPANT:age 4 to 10
CONTACT:Joyce L. Kleimann\, 14099867814\, hitchpl@comcast.net
CREATED:20210109T155425Z
LAST-MODIFIED:20210109T155431Z
LOCATION:Facebook: Hitchcock Public Library
URL:https://hitchcock.ploud.net/news-events/lib-news/fb-cotton-ball-snowy-
 owl-craft
END:VEVENT
BEGIN:VTIMEZONE
TZID:US/Central
X-LIC-LOCATION:US/Central
BEGIN:STANDARD
DTSTART:20201101T010000
TZNAME:CST
TZOFFSETFROM:-0500
TZOFFSETTO:-0600
END:STANDARD
END:VTIMEZONE
END:VCALENDAR
