BEGIN:VCALENDAR
VERSION:2.0
PRODID:-//Plone.org//NONSGML plone.app.event//EN
X-WR-TIMEZONE:US/Central
BEGIN:VEVENT
SUMMARY:FB Children's Craft
DTSTART;TZID=US/Central:20210123T130000
DTEND;TZID=US/Central:20210123T133000
DTSTAMP:20260422T090510Z
UID:cfba3c15c15440ce9fa777d6bd5ab563@saas_stack_varnish:6080
CONTACT:joyce L. Kleimann\, 409-986-7814
CREATED:20201223T201906Z
LAST-MODIFIED:20201223T201913Z
LOCATION:Hitchchock Facebook page
URL:https://hitchcock.ploud.net/news-events/lib-news/fb-childrens-craft
END:VEVENT
BEGIN:VTIMEZONE
TZID:US/Central
X-LIC-LOCATION:US/Central
BEGIN:STANDARD
DTSTART:20201101T010000
TZNAME:CST
TZOFFSETFROM:-0500
TZOFFSETTO:-0600
END:STANDARD
END:VTIMEZONE
END:VCALENDAR
