BEGIN:VCALENDAR
VERSION:2.0
PRODID:-//Plone.org//NONSGML plone.app.event//EN
X-WR-TIMEZONE:US/Central
BEGIN:VEVENT
SUMMARY:Balloon/Skewer Experiment
DTSTART;TZID=US/Central:20140206T150000
DTEND;TZID=US/Central:20140206T160000
DTSTAMP:20260422T003524Z
UID:cca3de48d0b11e940474782d6895492a@saas_stack_varnish:6080
CONTACT:409-986-7814
CREATED:20140121T205821Z
LAST-MODIFIED:20140121T205839Z
LOCATION:Hitchcock Public Library
URL:https://hitchcock.ploud.net/news-events/lib-cal/balloon-skewer-experim
 ent.ics
END:VEVENT
BEGIN:VTIMEZONE
TZID:US/Central
X-LIC-LOCATION:US/Central
BEGIN:STANDARD
DTSTART:20131103T010000
TZNAME:CST
TZOFFSETFROM:-0500
TZOFFSETTO:-0600
END:STANDARD
END:VTIMEZONE
END:VCALENDAR
