BEGIN:VCALENDAR
VERSION:2.0
PRODID:-//Plone.org//NONSGML plone.app.event//EN
X-WR-TIMEZONE:US/Central
BEGIN:VEVENT
SUMMARY:February Calendar
DTSTART;VALUE=DATE:20250201
DTEND;VALUE=DATE:20250301
DTSTAMP:20260422T020842Z
UID:f2a68d3048c94331b6c1c6788f9e2842@saas_stack_varnish:6080
CREATED:20250130T183613Z
DESCRIPTION:Check out our events this month!
LAST-MODIFIED:20250130T183623Z
LOCATION:Hitchcock Library
URL:https://hitchcock.ploud.net/news-events/february-calendar
END:VEVENT
END:VCALENDAR
