BEGIN:VCALENDAR
VERSION:2.0
PRODID:-//Plone.org//NONSGML plone.app.event//EN
X-WR-TIMEZONE:US/Central
BEGIN:VEVENT
SUMMARY:Merry Christmas!
DTSTART;TZID=US/Central:20231225T110000
DTEND;TZID=US/Central:20231225T120000
DTSTAMP:20260422T070453Z
UID:e5011995a8b3486c82f551e519aa6a1a@saas_stack_varnish:6080
CREATED:20231129T170925Z
LAST-MODIFIED:20231129T170933Z
URL:https://hitchcock.ploud.net/merry-christmas-1
END:VEVENT
BEGIN:VTIMEZONE
TZID:US/Central
X-LIC-LOCATION:US/Central
BEGIN:STANDARD
DTSTART:20231105T010000
TZNAME:CST
TZOFFSETFROM:-0500
TZOFFSETTO:-0600
END:STANDARD
END:VTIMEZONE
END:VCALENDAR
