BEGIN:VCALENDAR
VERSION:2.0
PRODID:-//Plone.org//NONSGML plone.app.event//EN
X-WR-TIMEZONE:US/Central
BEGIN:VEVENT
SUMMARY:Martin Luther King Jr. Day
DTSTART;TZID=US/Central:20240115T130000
DTEND;TZID=US/Central:20240115T140000
DTSTAMP:20260424T083740Z
UID:388dc2d1ee1448d1bb13e3c59217543b@saas_stack_varnish:6080
CREATED:20240103T192714Z
LAST-MODIFIED:20240103T192737Z
URL:https://hitchcock.ploud.net/martin-luther-king-jr-day
END:VEVENT
BEGIN:VTIMEZONE
TZID:US/Central
X-LIC-LOCATION:US/Central
BEGIN:STANDARD
DTSTART:20231105T010000
TZNAME:CST
TZOFFSETFROM:-0500
TZOFFSETTO:-0600
END:STANDARD
END:VTIMEZONE
END:VCALENDAR
