BEGIN:VCALENDAR
VERSION:2.0
PRODID:-//Plone.org//NONSGML plone.app.event//EN
X-WR-TIMEZONE:US/Central
BEGIN:VEVENT
SUMMARY:Hitchcock Heritage Society
DTSTART;TZID=US/Central:20221203T113000
DTEND;TZID=US/Central:20221203T133000
DTSTAMP:20260422T071906Z
UID:db47fd7d55f64664ae5f589c995a8fce@saas_stack_varnish:6080
CREATED:20221129T180124Z
LAST-MODIFIED:20221129T180155Z
LOCATION:Hitchcock Heritage Museum
URL:https://hitchcock.ploud.net/hitchcock-heritage-society
END:VEVENT
BEGIN:VTIMEZONE
TZID:US/Central
X-LIC-LOCATION:US/Central
BEGIN:STANDARD
DTSTART:20221106T010000
TZNAME:CST
TZOFFSETFROM:-0500
TZOFFSETTO:-0600
END:STANDARD
END:VTIMEZONE
END:VCALENDAR
