BEGIN:VCALENDAR
VERSION:2.0
PRODID:-//Plone.org//NONSGML plone.app.event//EN
X-WR-TIMEZONE:US/Central
BEGIN:VEVENT
SUMMARY:Happy Veterans Day!
DTSTART;TZID=US/Central:20231111T100000
DTSTAMP:20260422T070453Z
UID:6197b7f030014d9789e2e36fbd18ca0a@saas_stack_varnish:6080
CREATED:20231020T155533Z
LAST-MODIFIED:20231020T155545Z
URL:https://hitchcock.ploud.net/happy-veterans-day
END:VEVENT
BEGIN:VTIMEZONE
TZID:US/Central
X-LIC-LOCATION:US/Central
BEGIN:STANDARD
DTSTART:20231105T010000
TZNAME:CST
TZOFFSETFROM:-0500
TZOFFSETTO:-0600
END:STANDARD
END:VTIMEZONE
END:VCALENDAR
