BEGIN:VCALENDAR
VERSION:2.0
PRODID:-//Plone.org//NONSGML plone.app.event//EN
X-WR-TIMEZONE:US/Central
BEGIN:VEVENT
SUMMARY:Happy Valentine's Day!
DTSTART;TZID=US/Central:20230214T100000
DTEND;TZID=US/Central:20230214T170000
DTSTAMP:20260422T070325Z
UID:86e5117b09694d16b875668b1ec4d8cc@saas_stack_varnish:6080
CREATED:20230124T185736Z
LAST-MODIFIED:20230124T185900Z
URL:https://hitchcock.ploud.net/happy-valentines-day
END:VEVENT
BEGIN:VTIMEZONE
TZID:US/Central
X-LIC-LOCATION:US/Central
BEGIN:STANDARD
DTSTART:20221106T010000
TZNAME:CST
TZOFFSETFROM:-0500
TZOFFSETTO:-0600
END:STANDARD
END:VTIMEZONE
END:VCALENDAR
