BEGIN:VCALENDAR
VERSION:2.0
PRODID:-//Plone.org//NONSGML plone.app.event//EN
X-WR-TIMEZONE:US/Central
BEGIN:VEVENT
SUMMARY:Happy Valentine's Day!
DTSTART;VALUE=DATE:20240214
DTEND;VALUE=DATE:20240215
DTSTAMP:20260422T090130Z
UID:05aed78f969b4ee8b875c66450643f9a@saas_stack_varnish:6080
CREATED:20240123T185031Z
LAST-MODIFIED:20240123T185641Z
URL:https://hitchcock.ploud.net/happy-valentines-day-1
END:VEVENT
END:VCALENDAR
