BEGIN:VCALENDAR
VERSION:2.0
PRODID:-//Plone.org//NONSGML plone.app.event//EN
X-WR-TIMEZONE:US/Central
BEGIN:VEVENT
SUMMARY:Happy St. Patrick's Day!
DTSTART;VALUE=DATE:20240317
DTEND;VALUE=DATE:20240318
DTSTAMP:20260422T090131Z
UID:e3a66fac92a5455cb914e020312bd599@saas_stack_varnish:6080
CREATED:20240301T162328Z
LAST-MODIFIED:20240301T162333Z
URL:https://hitchcock.ploud.net/happy-st-patricks-day-1
END:VEVENT
END:VCALENDAR
