BEGIN:VCALENDAR
VERSION:2.0
PRODID:-//Plone.org//NONSGML plone.app.event//EN
X-WR-TIMEZONE:US/Central
BEGIN:VEVENT
SUMMARY:Happy New Years Eve
DTSTART;TZID=US/Central:20231231T110000
DTEND;TZID=US/Central:20231231T120000
DTSTAMP:20260424T083459Z
UID:8b666f0df9c84da3aa875e6b3b2f0694@saas_stack_varnish:6080
CREATED:20231129T172247Z
LAST-MODIFIED:20231129T172252Z
URL:https://hitchcock.ploud.net/happy-new-years-eve
END:VEVENT
BEGIN:VTIMEZONE
TZID:US/Central
X-LIC-LOCATION:US/Central
BEGIN:STANDARD
DTSTART:20231105T010000
TZNAME:CST
TZOFFSETFROM:-0500
TZOFFSETTO:-0600
END:STANDARD
END:VTIMEZONE
END:VCALENDAR
