BEGIN:VCALENDAR
VERSION:2.0
PRODID:-//Plone.org//NONSGML plone.app.event//EN
X-WR-TIMEZONE:US/Central
BEGIN:VEVENT
SUMMARY:Happy New Years!
DTSTART;TZID=US/Central:20240101T110000
DTEND;TZID=US/Central:20240101T120000
DTSTAMP:20260422T071856Z
UID:84cd277d7b3343dbb2a8d1350d3c91d2@saas_stack_varnish:6080
CREATED:20231129T172834Z
LAST-MODIFIED:20231129T172839Z
URL:https://hitchcock.ploud.net/happy-new-years-1
END:VEVENT
BEGIN:VTIMEZONE
TZID:US/Central
X-LIC-LOCATION:US/Central
BEGIN:STANDARD
DTSTART:20231105T010000
TZNAME:CST
TZOFFSETFROM:-0500
TZOFFSETTO:-0600
END:STANDARD
END:VTIMEZONE
END:VCALENDAR
