BEGIN:VCALENDAR
VERSION:2.0
PRODID:-//Plone.org//NONSGML plone.app.event//EN
X-WR-TIMEZONE:US/Central
BEGIN:VEVENT
SUMMARY:Happy Memorial Day!
DTSTART;TZID=US/Central:20230529T110000
DTEND;TZID=US/Central:20230529T120000
DTSTAMP:20260422T082753Z
UID:71bbff95322f432dacb150207e7eb3e1@saas_stack_varnish:6080
CREATED:20230503T162712Z
LAST-MODIFIED:20230503T162717Z
URL:https://hitchcock.ploud.net/happy-memorial-day
END:VEVENT
BEGIN:VTIMEZONE
TZID:US/Central
X-LIC-LOCATION:US/Central
BEGIN:DAYLIGHT
DTSTART:20230312T030000
TZNAME:CDT
TZOFFSETFROM:-0600
TZOFFSETTO:-0500
END:DAYLIGHT
END:VTIMEZONE
END:VCALENDAR
