BEGIN:VCALENDAR
VERSION:2.0
PRODID:-//Plone.org//NONSGML plone.app.event//EN
X-WR-TIMEZONE:US/Central
BEGIN:VEVENT
SUMMARY:Happy Halloween!
DTSTART;TZID=US/Central:20231031T100000
DTEND;TZID=US/Central:20231031T110000
DTSTAMP:20260422T051559Z
UID:a32c64576ea446e898b15422e6601b99@saas_stack_varnish:6080
CREATED:20230928T204936Z
LAST-MODIFIED:20230928T204944Z
URL:https://hitchcock.ploud.net/happy-halloween
END:VEVENT
BEGIN:VTIMEZONE
TZID:US/Central
X-LIC-LOCATION:US/Central
BEGIN:DAYLIGHT
DTSTART:20230312T030000
TZNAME:CDT
TZOFFSETFROM:-0600
TZOFFSETTO:-0500
END:DAYLIGHT
END:VTIMEZONE
END:VCALENDAR
