BEGIN:VCALENDAR
VERSION:2.0
PRODID:-//Plone.org//NONSGML plone.app.event//EN
X-WR-TIMEZONE:US/Central
BEGIN:VEVENT
SUMMARY:Happy Easter!
DTSTART;TZID=US/Central:20230409T100000
DTEND;TZID=US/Central:20230409T101500
DTSTAMP:20260422T051955Z
UID:36bddd7d2b1f4d23be467816a95fca97@saas_stack_varnish:6080
CREATED:20230329T192617Z
LAST-MODIFIED:20230329T192623Z
URL:https://hitchcock.ploud.net/happy-easter
END:VEVENT
BEGIN:VTIMEZONE
TZID:US/Central
X-LIC-LOCATION:US/Central
BEGIN:DAYLIGHT
DTSTART:20230312T030000
TZNAME:CDT
TZOFFSETFROM:-0600
TZOFFSETTO:-0500
END:DAYLIGHT
END:VTIMEZONE
END:VCALENDAR
