BEGIN:VCALENDAR
VERSION:2.0
PRODID:-//Plone.org//NONSGML plone.app.event//EN
X-WR-TIMEZONE:US/Central
BEGIN:VEVENT
SUMMARY:Hallow-READ Challenge!
DTSTART;TZID=US/Central:20231001T130000
DTSTAMP:20260422T052544Z
UID:c44cbcf01ec24b85aa57a32071a063ad@saas_stack_varnish:6080
ATTENDEE;CN="All ages are welcome to join!";ROLE=REQ-PARTICIPANT:All ages 
 are welcome to join!
CONTACT:409-986-7814\, hitchcockpubliclibrary@gmail.com\, https://l.facebo
 ok.com/l.php?u=http%3A%2F%2FHitchcockpublicLibrary.Beanstack.org%2F%3Ffbcl
 id%3DIwAR2Ctvnz3UqQYOxDvebAPmpsVDMhxBvANv6UAAsANZR2_La8W3WKzs442Dg&h=AT0k5
 dezotJwNWGG_7Ao8h6WUVdBKckb96o1LvG0ivG06ocz0SIZhfMyxQLo7YH4KsZQBGIEA6m6F06
 nURztAiR7HmG34UmyNrAGSOqZfhJ3A1tRfVyEdHmyL2MRC4QOPySwpHwLvWu5ANdLKK7W&__tn
 __=-UK-R&c[0]=AT18ww5xyr2u5GOsPzmGHvsVEnRm1dKqgehoTqBbrCCzves60v_6rfYnXD7q
 5jhGzXjcPTqhPY86w-rzydzeTdYMgUFQZvGWcPNemMBV0n3bfvrUg1W2Zh3FsXWnOfEUH8Psxz
 8GFJByS9aAuPgob70lmzWShXx0ZxNvM1TNqGeN7kM1AA
CREATED:20230928T180527Z
LAST-MODIFIED:20230928T181813Z
URL:https://hitchcock.ploud.net/hallow-read-challenge
END:VEVENT
BEGIN:VTIMEZONE
TZID:US/Central
X-LIC-LOCATION:US/Central
BEGIN:DAYLIGHT
DTSTART:20230312T030000
TZNAME:CDT
TZOFFSETFROM:-0600
TZOFFSETTO:-0500
END:DAYLIGHT
END:VTIMEZONE
END:VCALENDAR
