BEGIN:VCALENDAR
VERSION:2.0
PRODID:-//Plone.org//NONSGML plone.app.event//EN
X-WR-TIMEZONE:US/Central
BEGIN:VEVENT
SUMMARY:GCHD Mini Health Fair
DTSTART;TZID=US/Central:20230304T100000
DTEND;TZID=US/Central:20230304T120000
DTSTAMP:20260422T084755Z
UID:ab5c211f9f874fcdb714cbbcdc1bba1f@saas_stack_varnish:6080
CONTACT:409-986-7814\, hitchcockpubliclibrary@gmail.com
CREATED:20230304T202236Z
LAST-MODIFIED:20230304T202241Z
LOCATION:Hitchcock Public Library
URL:https://hitchcock.ploud.net/gchd-mini-health-fair
END:VEVENT
BEGIN:VTIMEZONE
TZID:US/Central
X-LIC-LOCATION:US/Central
BEGIN:STANDARD
DTSTART:20221106T010000
TZNAME:CST
TZOFFSETFROM:-0500
TZOFFSETTO:-0600
END:STANDARD
END:VTIMEZONE
END:VCALENDAR
