BEGIN:VCALENDAR
VERSION:2.0
PRODID:-//Plone.org//NONSGML plone.app.event//EN
X-WR-TIMEZONE:US/Central
BEGIN:VEVENT
SUMMARY:Friends of the Library Meeting
DTSTART;TZID=US/Central:20240104T180000
DTEND;TZID=US/Central:20240104T190000
DTSTAMP:20260422T103643Z
UID:11e315f9decf4f27999558c996d77b44@saas_stack_varnish:6080
CREATED:20240103T183709Z
LAST-MODIFIED:20240103T183720Z
LOCATION:Hitchcock Public Library
URL:https://hitchcock.ploud.net/friends-of-the-library-meeting-2
END:VEVENT
BEGIN:VTIMEZONE
TZID:US/Central
X-LIC-LOCATION:US/Central
BEGIN:STANDARD
DTSTART:20231105T010000
TZNAME:CST
TZOFFSETFROM:-0500
TZOFFSETTO:-0600
END:STANDARD
END:VTIMEZONE
END:VCALENDAR
