BEGIN:VCALENDAR
VERSION:2.0
PRODID:-//Plone.org//NONSGML plone.app.event//EN
X-WR-TIMEZONE:US/Central
BEGIN:VEVENT
SUMMARY:Friends of the Library Meeting
DTSTART;TZID=US/Central:20231102T180000
DTEND;TZID=US/Central:20231102T190000
DTSTAMP:20260422T103642Z
UID:943b8df104b04284b73c2a015247a2d4@saas_stack_varnish:6080
CREATED:20231020T151740Z
LAST-MODIFIED:20231020T151814Z
LOCATION:Hitchcock Public Library
URL:https://hitchcock.ploud.net/friends-of-the-library-meeting-1
END:VEVENT
BEGIN:VTIMEZONE
TZID:US/Central
X-LIC-LOCATION:US/Central
BEGIN:DAYLIGHT
DTSTART:20230312T030000
TZNAME:CDT
TZOFFSETFROM:-0600
TZOFFSETTO:-0500
END:DAYLIGHT
END:VTIMEZONE
END:VCALENDAR
