BEGIN:VCALENDAR
VERSION:2.0
PRODID:-//Plone.org//NONSGML plone.app.event//EN
X-WR-TIMEZONE:US/Central
BEGIN:VEVENT
SUMMARY:February Craft Day
DTSTART;TZID=US/Central:20250222T130000
DTEND;TZID=US/Central:20250222T140000
DTSTAMP:20260422T053122Z
UID:84d100afd4f540e1adf6e5b06e88e54d@saas_stack_varnish:6080
CREATED:20250130T183748Z
DESCRIPTION:Fun for the whole family! Join us for a Polar Bear Craft to ce
 lebrate Polar Bear Day!
LAST-MODIFIED:20250130T183903Z
LOCATION:Hitchcock Library
URL:https://hitchcock.ploud.net/february-craft-day
END:VEVENT
BEGIN:VTIMEZONE
TZID:US/Central
X-LIC-LOCATION:US/Central
BEGIN:STANDARD
DTSTART:20241103T010000
TZNAME:CST
TZOFFSETFROM:-0500
TZOFFSETTO:-0600
END:STANDARD
END:VTIMEZONE
END:VCALENDAR
