BEGIN:VCALENDAR
VERSION:2.0
PRODID:-//Plone.org//NONSGML plone.app.event//EN
X-WR-TIMEZONE:US/Central
BEGIN:VEVENT
SUMMARY:FB SRP Turtle Island Restoration Network
DTSTART;TZID=US/Central:20210715T130000
DTEND;TZID=US/Central:20210715T133000
DTSTAMP:20260422T090248Z
UID:5f6d225e589340b6b0fb8e48583e33be@saas_stack_varnish:6080
ATTENDEE;CN="ages 2 to 12";ROLE=REQ-PARTICIPANT:ages 2 to 12
CONTACT:Joyce L. Kleimann\, 14099867814\, hitchpl@comcast.net
CREATED:20210504T205013Z
LAST-MODIFIED:20210602T140239Z
LOCATION:Facebook: Hitchcock Public Library
URL:https://hitchcock.ploud.net/fb-srp-turtle-island-restoration-network-1
END:VEVENT
BEGIN:VTIMEZONE
TZID:US/Central
X-LIC-LOCATION:US/Central
BEGIN:DAYLIGHT
DTSTART:20210314T030000
TZNAME:CDT
TZOFFSETFROM:-0600
TZOFFSETTO:-0500
END:DAYLIGHT
END:VTIMEZONE
END:VCALENDAR
