BEGIN:VCALENDAR
VERSION:2.0
PRODID:-//Plone.org//NONSGML plone.app.event//EN
X-WR-TIMEZONE:US/Central
BEGIN:VEVENT
SUMMARY:FB SRP "Timothy Turtle Takes a Tumble" Story Time
DTSTART;TZID=US/Central:20210716T130000
DTEND;TZID=US/Central:20210716T133000
DTSTAMP:20260422T071958Z
UID:4f0258679a5a4a83baae9755143911ad@saas_stack_varnish:6080
ATTENDEE;CN="ages 2 to 8";ROLE=REQ-PARTICIPANT:ages 2 to 8
CONTACT:Joyce L. Kleimann\, 14099867814\, hitchpl@comcast.net
CREATED:20210504T205337Z
LAST-MODIFIED:20210602T140319Z
LOCATION:Facebook: Hitchcock Public Library
URL:https://hitchcock.ploud.net/fb-srp-timothy-turtle-takes-a-tumble-story
 -time
END:VEVENT
BEGIN:VTIMEZONE
TZID:US/Central
X-LIC-LOCATION:US/Central
BEGIN:DAYLIGHT
DTSTART:20210314T030000
TZNAME:CDT
TZOFFSETFROM:-0600
TZOFFSETTO:-0500
END:DAYLIGHT
END:VTIMEZONE
END:VCALENDAR
