BEGIN:VCALENDAR
VERSION:2.0
PRODID:-//Plone.org//NONSGML plone.app.event//EN
X-WR-TIMEZONE:US/Central
BEGIN:VEVENT
SUMMARY:FB SRP Storytime TBA
DTSTART;TZID=US/Central:20210702T130000
DTEND;TZID=US/Central:20210702T133000
DTSTAMP:20260422T090057Z
UID:e5ca0bcb663e42c0b1a9a73d85e3611a@saas_stack_varnish:6080
ATTENDEE;CN="ages 2 to 8";ROLE=REQ-PARTICIPANT:ages 2 to 8
CONTACT:Joyce L. Kleimann\, 14099867814\, hitchpl@comcast.net
CREATED:20210504T201659Z
LAST-MODIFIED:20210602T140024Z
LOCATION:Facebook: Hitchcock Public Library
URL:https://hitchcock.ploud.net/fb-srp-storytime-tba
END:VEVENT
BEGIN:VTIMEZONE
TZID:US/Central
X-LIC-LOCATION:US/Central
BEGIN:DAYLIGHT
DTSTART:20210314T030000
TZNAME:CDT
TZOFFSETFROM:-0600
TZOFFSETTO:-0500
END:DAYLIGHT
END:VTIMEZONE
END:VCALENDAR
